BEGIN:VCALENDAR
VERSION:2.0
PRODID:-//The Land Conservancy of BC - ECPv6.15.20//NONSGML v1.0//EN
CALSCALE:GREGORIAN
METHOD:PUBLISH
X-WR-CALNAME:The Land Conservancy of BC
X-ORIGINAL-URL:https://conservancy.bc.ca
X-WR-CALDESC:Events for The Land Conservancy of BC
REFRESH-INTERVAL;VALUE=DURATION:PT1H
X-Robots-Tag:noindex
X-PUBLISHED-TTL:PT1H
BEGIN:VTIMEZONE
TZID:America/Vancouver
BEGIN:DAYLIGHT
TZOFFSETFROM:-0800
TZOFFSETTO:-0700
TZNAME:PDT
DTSTART:20240310T100000
END:DAYLIGHT
BEGIN:STANDARD
TZOFFSETFROM:-0700
TZOFFSETTO:-0800
TZNAME:PST
DTSTART:20241103T090000
END:STANDARD
BEGIN:DAYLIGHT
TZOFFSETFROM:-0800
TZOFFSETTO:-0700
TZNAME:PDT
DTSTART:20250309T100000
END:DAYLIGHT
BEGIN:STANDARD
TZOFFSETFROM:-0700
TZOFFSETTO:-0800
TZNAME:PST
DTSTART:20251102T090000
END:STANDARD
BEGIN:DAYLIGHT
TZOFFSETFROM:-0800
TZOFFSETTO:-0700
TZNAME:PDT
DTSTART:20260308T100000
END:DAYLIGHT
BEGIN:STANDARD
TZOFFSETFROM:-0700
TZOFFSETTO:-0800
TZNAME:PST
DTSTART:20261101T090000
END:STANDARD
END:VTIMEZONE
BEGIN:VEVENT
DTSTART;TZID=America/Vancouver:20251108T100000
DTEND;TZID=America/Vancouver:20251108T120000
DTSTAMP:20260423T130206
CREATED:20250410T213147Z
LAST-MODIFIED:20250819T192632Z
UID:33221-1762596000-1762603200@conservancy.bc.ca
SUMMARY:Fungi ID Walk
DESCRIPTION:Presented by TLC’s Torrey Archer-Anderson with Elora Adamson\, Andy MacKinnon\, and Kem Luther\, and the Friends of John Dean Park Society. \nJoin local fungi experts for a fun\, family-friendly\, fungal foray. As we gently stroll\, we will scout high up in tree branches and low down under rotting logs for colourful conks\, luscious lichens\, jiggling jelly fungi\, and slippery slime-molds. Learn to identify the Pacific Northwest’s funky fungi through smell\, sight\, touch\, and more! \nEvent Registration\nAdvance Registration is required for this event. Register here. \nThe Fungi ID Walk event is a part of TLC’s 2025 Passport to Nature event series. Learn more.
URL:https://conservancy.bc.ca/event/2025-fungi-id-walk/
LOCATION:ȽÁU\,WELṈEW̱/John Dean Park – Main Entrance\, John\, Dean Park Rd\, North Saanich\, BC V8L 5E1\, North Saanich\, BC\, V8L 5E1\, Canada
CATEGORIES:Passport to Nature
ATTACH;FMTTYPE=image/png:https://conservancy.bc.ca/wp-content/uploads/2025/08/2025P2NFungiUpdated-1-scaled.png
END:VEVENT
END:VCALENDAR