BEGIN:VCALENDAR
VERSION:2.0
PRODID:-//The Land Conservancy of BC - ECPv6.15.20//NONSGML v1.0//EN
CALSCALE:GREGORIAN
METHOD:PUBLISH
X-ORIGINAL-URL:https://conservancy.bc.ca
X-WR-CALDESC:Events for The Land Conservancy of BC
REFRESH-INTERVAL;VALUE=DURATION:PT1H
X-Robots-Tag:noindex
X-PUBLISHED-TTL:PT1H
BEGIN:VTIMEZONE
TZID:America/Vancouver
BEGIN:DAYLIGHT
TZOFFSETFROM:-0800
TZOFFSETTO:-0700
TZNAME:PDT
DTSTART:20240310T100000
END:DAYLIGHT
BEGIN:STANDARD
TZOFFSETFROM:-0700
TZOFFSETTO:-0800
TZNAME:PST
DTSTART:20241103T090000
END:STANDARD
BEGIN:DAYLIGHT
TZOFFSETFROM:-0800
TZOFFSETTO:-0700
TZNAME:PDT
DTSTART:20250309T100000
END:DAYLIGHT
BEGIN:STANDARD
TZOFFSETFROM:-0700
TZOFFSETTO:-0800
TZNAME:PST
DTSTART:20251102T090000
END:STANDARD
BEGIN:DAYLIGHT
TZOFFSETFROM:-0800
TZOFFSETTO:-0700
TZNAME:PDT
DTSTART:20260308T100000
END:DAYLIGHT
BEGIN:STANDARD
TZOFFSETFROM:-0700
TZOFFSETTO:-0800
TZNAME:PST
DTSTART:20261101T090000
END:STANDARD
END:VTIMEZONE
BEGIN:VEVENT
DTSTART;TZID=America/Vancouver:20250510T130000
DTEND;TZID=America/Vancouver:20250510T170000
DTSTAMP:20260425T060317
CREATED:20250410T200006Z
LAST-MODIFIED:20250410T215253Z
UID:33183-1746882000-1746896400@conservancy.bc.ca
SUMMARY:Critter Day
DESCRIPTION:Presented by Frankie Iwachow\, TLC’s Environmental Technician and Land Manager  \nSlither down to Beaver Creek Provincial Park for free\, family-friendly fun! Try our ‘bone’-ified mix & match game\, spin the trivia wheel to test your knowledge about the special ecosystems in the Trail and Pend d’Oreille region\, get artsy at Fort Shepherd colouring station\, and more when you visit the TLC table at Critter Day. \nCritter Day is co-hosted by the Kootenay Conservation Program\, the Fish & Wildlife Compensation Program\, and the Trail Wildlife Association with support from the Province of B.C.\, Teck Trail Operations\, FortisBC\, and Silver City Days. \nEvent Registration\nRegister for this event to receive event updates and directions to Critter Day via email. Register here.\nCritter Day is a part of TLC’s 2025 Passport to Nature event series. Learn more.
URL:https://conservancy.bc.ca/event/2025-critter-day/
LOCATION:Beaver Creek Provincial Park\, 8801 BC-22A\, Trail\, BC\, V1R 4W6\, Canada
CATEGORIES:Passport to Nature
ATTACH;FMTTYPE=image/png:https://conservancy.bc.ca/wp-content/uploads/2025/04/2025-P2N-Critter-Day.png
END:VEVENT
END:VCALENDAR