BEGIN:VCALENDAR
VERSION:2.0
PRODID:-//The Land Conservancy of BC - ECPv6.15.20//NONSGML v1.0//EN
CALSCALE:GREGORIAN
METHOD:PUBLISH
X-ORIGINAL-URL:https://conservancy.bc.ca
X-WR-CALDESC:Events for The Land Conservancy of BC
REFRESH-INTERVAL;VALUE=DURATION:PT1H
X-Robots-Tag:noindex
X-PUBLISHED-TTL:PT1H
BEGIN:VTIMEZONE
TZID:America/Vancouver
BEGIN:DAYLIGHT
TZOFFSETFROM:-0800
TZOFFSETTO:-0700
TZNAME:PDT
DTSTART:20240310T100000
END:DAYLIGHT
BEGIN:STANDARD
TZOFFSETFROM:-0700
TZOFFSETTO:-0800
TZNAME:PST
DTSTART:20241103T090000
END:STANDARD
BEGIN:DAYLIGHT
TZOFFSETFROM:-0800
TZOFFSETTO:-0700
TZNAME:PDT
DTSTART:20250309T100000
END:DAYLIGHT
BEGIN:STANDARD
TZOFFSETFROM:-0700
TZOFFSETTO:-0800
TZNAME:PST
DTSTART:20251102T090000
END:STANDARD
BEGIN:DAYLIGHT
TZOFFSETFROM:-0800
TZOFFSETTO:-0700
TZNAME:PDT
DTSTART:20260308T100000
END:DAYLIGHT
BEGIN:STANDARD
TZOFFSETFROM:-0700
TZOFFSETTO:-0800
TZNAME:PST
DTSTART:20261101T090000
END:STANDARD
END:VTIMEZONE
BEGIN:VEVENT
DTSTART;TZID=America/Vancouver:20250427T094500
DTEND;TZID=America/Vancouver:20250427T130000
DTSTAMP:20260423T140338
CREATED:20250410T202131Z
LAST-MODIFIED:20250410T225654Z
UID:33180-1745747100-1745758800@conservancy.bc.ca
SUMMARY:Ayum Creek Park Restoration
DESCRIPTION:Presented by Maya Irwin\, TLC Covenant Coordinator\, with the Greater Victoria Green Team\, HAT\, and CRD \nJoin TLC and the Greater Victoria Green Team to restore Ayum Creek Regional Park’s biodiversity. Contribute to TLC’s 5+ year periwinkle eradication project and remove invasives like English ivy\, English holly\, and spurge-laurel from the forest. Volunteers of all ages and abilities welcome! Passport to AYUM CREEK Sunday\, April 27 from 9:45 a.m. to 1 p.m. Tools\, gloves\, and snacks will be provided! \nThis event was generously supported by TD Friends of the Environment Foundation and is hosted in collaboration with the Greater Victoria Green Team. \nEvent Registration\nAdvance registration is required for this event. Register here.\nIf you can no longer attend this event\, please contact us.\nAyum Creek Park Restoration is a part of TLC’s 2025 Passport to Nature event series. Learn more.
URL:https://conservancy.bc.ca/event/ayum-creek-park-restoration/
LOCATION:Ayum Creek\, Laidlaw Road\, Sooke\, British Columbia\, V9Z 0C7\, Canada
CATEGORIES:Passport to Nature,Restoration
ATTACH;FMTTYPE=image/png:https://conservancy.bc.ca/wp-content/uploads/2025/04/2025-P2N-Ayum.png
END:VEVENT
END:VCALENDAR