BEGIN:VCALENDAR
VERSION:2.0
PRODID:-//The Land Conservancy of BC - ECPv6.15.20//NONSGML v1.0//EN
CALSCALE:GREGORIAN
METHOD:PUBLISH
X-ORIGINAL-URL:https://conservancy.bc.ca
X-WR-CALDESC:Events for The Land Conservancy of BC
REFRESH-INTERVAL;VALUE=DURATION:PT1H
X-Robots-Tag:noindex
X-PUBLISHED-TTL:PT1H
BEGIN:VTIMEZONE
TZID:America/Vancouver
BEGIN:DAYLIGHT
TZOFFSETFROM:-0800
TZOFFSETTO:-0700
TZNAME:PDT
DTSTART:20240310T100000
END:DAYLIGHT
BEGIN:STANDARD
TZOFFSETFROM:-0700
TZOFFSETTO:-0800
TZNAME:PST
DTSTART:20241103T090000
END:STANDARD
BEGIN:DAYLIGHT
TZOFFSETFROM:-0800
TZOFFSETTO:-0700
TZNAME:PDT
DTSTART:20250309T100000
END:DAYLIGHT
BEGIN:STANDARD
TZOFFSETFROM:-0700
TZOFFSETTO:-0800
TZNAME:PST
DTSTART:20251102T090000
END:STANDARD
BEGIN:DAYLIGHT
TZOFFSETFROM:-0800
TZOFFSETTO:-0700
TZNAME:PDT
DTSTART:20260308T100000
END:DAYLIGHT
BEGIN:STANDARD
TZOFFSETFROM:-0700
TZOFFSETTO:-0800
TZNAME:PST
DTSTART:20261101T090000
END:STANDARD
END:VTIMEZONE
BEGIN:VEVENT
DTSTART;TZID=America/Vancouver:20250608T100000
DTEND;TZID=America/Vancouver:20250608T130000
DTSTAMP:20260422T004725
CREATED:20250410T203842Z
LAST-MODIFIED:20250602T011335Z
UID:33190-1749376800-1749387600@conservancy.bc.ca
SUMMARY:Walking Among Giants
DESCRIPTION:Presented by Frankie Iwachow\, Tom Whitfield\, President of the Brown Property Preservation Society\, and the Town of Qualicum Beach  \nJoin us for a guided walk through the Hertiage Forest of Qualicum Beach led by knowledgeable naturalist\, Tom Whitfield who will share insights into its rich ecological and cultural significance. Discover how towering centuries-old trees support public health and well-being while learning about the dedicated community efforts that saved this forest from destruction. This immersive tour highlights the deep connection between nature\, heritage\, and conservation\, offering a meaningful experience for all who cherish the outdoors. \nThe Heritage Forest is proudly managed by the Town of Qualicum Beach in consultation with TLC and the Brown Property Preservation Society.  \nEvent Registration\nThis workshop is full. Please email admin@conservancy.bc.ca to be put on the waitlist or to cancel your attendance for this event.\nWalking Among Giants is a part of TLC’s 2025 Passport to Nature event series. Learn more.
URL:https://conservancy.bc.ca/event/walking-among-giants/
LOCATION:Heritage Forest of Qualicum Beach
CATEGORIES:Passport to Nature
ATTACH;FMTTYPE=image/png:https://conservancy.bc.ca/wp-content/uploads/2025/04/2025-P2N-Qualicum-Forest01.png
END:VEVENT
END:VCALENDAR