BEGIN:VCALENDAR
VERSION:2.0
PRODID:-//The Land Conservancy of BC - ECPv6.15.20//NONSGML v1.0//EN
CALSCALE:GREGORIAN
METHOD:PUBLISH
X-ORIGINAL-URL:https://conservancy.bc.ca
X-WR-CALDESC:Events for The Land Conservancy of BC
REFRESH-INTERVAL;VALUE=DURATION:PT1H
X-Robots-Tag:noindex
X-PUBLISHED-TTL:PT1H
BEGIN:VTIMEZONE
TZID:America/Vancouver
BEGIN:DAYLIGHT
TZOFFSETFROM:-0800
TZOFFSETTO:-0700
TZNAME:PDT
DTSTART:20240310T100000
END:DAYLIGHT
BEGIN:STANDARD
TZOFFSETFROM:-0700
TZOFFSETTO:-0800
TZNAME:PST
DTSTART:20241103T090000
END:STANDARD
BEGIN:DAYLIGHT
TZOFFSETFROM:-0800
TZOFFSETTO:-0700
TZNAME:PDT
DTSTART:20250309T100000
END:DAYLIGHT
BEGIN:STANDARD
TZOFFSETFROM:-0700
TZOFFSETTO:-0800
TZNAME:PST
DTSTART:20251102T090000
END:STANDARD
BEGIN:DAYLIGHT
TZOFFSETFROM:-0800
TZOFFSETTO:-0700
TZNAME:PDT
DTSTART:20260308T100000
END:DAYLIGHT
BEGIN:STANDARD
TZOFFSETFROM:-0700
TZOFFSETTO:-0800
TZNAME:PST
DTSTART:20261101T090000
END:STANDARD
END:VTIMEZONE
BEGIN:VEVENT
DTSTART;TZID=America/Vancouver:20251004T094500
DTEND;TZID=America/Vancouver:20251004T130000
DTSTAMP:20260425T070654
CREATED:20250410T210711Z
LAST-MODIFIED:20250923T170612Z
UID:33217-1759571100-1759582800@conservancy.bc.ca
SUMMARY:POSTPONED - Restoration at TLC's Alston-Stewart Estate
DESCRIPTION:Presented by Michelle Thompson\, Frankie Iwachow\, and the Greater Victoria Green Team \nJoin TLC and the Greater Victoria Green Team for invasive species removal at TLC’s Alston-Stewart properties in the Blenkinsop Valley. Volunteers of all ages and abilities welcome. Tools\, gloves\, and snacks will be provided! \nBike to volunteer! This event’s location is along the beautiful Lochside Trail in the Blenkinsop Valley. \nWe thank the Greater Victoria Green Team for their collaboration in our third year of restoration events at Alston-Stewart. \nEvent Registration\nThis event has been postponed. Stay tuned on our Passport to Nature page or follow us on social media (@TLC4BC) to learn about event updates.
URL:https://conservancy.bc.ca/event/2025-alston-stewart-restoration/
LOCATION:Alston-Stewart\, 4394 Lochside Drive\, Victoria\, BC\, V8X 2C9\, Canada
CATEGORIES:Passport to Nature,Restoration
ATTACH;FMTTYPE=image/jpeg:https://conservancy.bc.ca/wp-content/uploads/2025/04/2025-P2N-Blenkinsop-POSTPONED-.jpg
END:VEVENT
END:VCALENDAR