BEGIN:VCALENDAR
VERSION:2.0
PRODID:-//The Land Conservancy of BC - ECPv6.15.20//NONSGML v1.0//EN
CALSCALE:GREGORIAN
METHOD:PUBLISH
X-ORIGINAL-URL:https://conservancy.bc.ca
X-WR-CALDESC:Events for The Land Conservancy of BC
REFRESH-INTERVAL;VALUE=DURATION:PT1H
X-Robots-Tag:noindex
X-PUBLISHED-TTL:PT1H
BEGIN:VTIMEZONE
TZID:America/Vancouver
BEGIN:DAYLIGHT
TZOFFSETFROM:-0800
TZOFFSETTO:-0700
TZNAME:PDT
DTSTART:20240310T100000
END:DAYLIGHT
BEGIN:STANDARD
TZOFFSETFROM:-0700
TZOFFSETTO:-0800
TZNAME:PST
DTSTART:20241103T090000
END:STANDARD
BEGIN:DAYLIGHT
TZOFFSETFROM:-0800
TZOFFSETTO:-0700
TZNAME:PDT
DTSTART:20250309T100000
END:DAYLIGHT
BEGIN:STANDARD
TZOFFSETFROM:-0700
TZOFFSETTO:-0800
TZNAME:PST
DTSTART:20251102T090000
END:STANDARD
BEGIN:DAYLIGHT
TZOFFSETFROM:-0800
TZOFFSETTO:-0700
TZNAME:PDT
DTSTART:20260308T100000
END:DAYLIGHT
BEGIN:STANDARD
TZOFFSETFROM:-0700
TZOFFSETTO:-0800
TZNAME:PST
DTSTART:20261101T090000
END:STANDARD
END:VTIMEZONE
BEGIN:VEVENT
DTSTART;TZID=America/Vancouver:20250927T130000
DTEND;TZID=America/Vancouver:20250927T160000
DTSTAMP:20260425T073728
CREATED:20250410T210121Z
LAST-MODIFIED:20250707T172342Z
UID:33214-1758978000-1758988800@conservancy.bc.ca
SUMMARY:2025 Virtual Annual General Meeting
DESCRIPTION:Presented by TLC Board of Directors and Executive Director\, Dianna Stenberg. Online Via Zoom videoconference \nHear from our Board of Directors and staff\, and learn about TLC’s latest programs and projects during the 2025 virtual Annual General Meeting. Please RSVP in advance to receive the Zoom link to your email. \nFor those unable to attend\, TLC’s Annual Report and Financial Statements and the AGM’s meeting minutes will be available in September on our website. Email or call us toll-free 1-877-485-2422 to request a hard copy to be mailed to you. \nRSVP here  \nPlease RSVP by September 26th. \n— \nTLC’s 2025 Annual General Meeting is a part of TLC’s 2025 Passport to Nature event series. Learn more.\n 
URL:https://conservancy.bc.ca/event/2025-agm/
LOCATION:Zoom
CATEGORIES:AGM,Passport to Nature
ATTACH;FMTTYPE=image/png:https://conservancy.bc.ca/wp-content/uploads/2025/04/2025P2NAGMupdated-1.png
END:VEVENT
END:VCALENDAR