BEGIN:VCALENDAR
VERSION:2.0
PRODID:-//The Land Conservancy of BC - ECPv6.15.20//NONSGML v1.0//EN
CALSCALE:GREGORIAN
METHOD:PUBLISH
X-WR-CALNAME:The Land Conservancy of BC
X-ORIGINAL-URL:https://conservancy.bc.ca
X-WR-CALDESC:Events for The Land Conservancy of BC
REFRESH-INTERVAL;VALUE=DURATION:PT1H
X-Robots-Tag:noindex
X-PUBLISHED-TTL:PT1H
BEGIN:VTIMEZONE
TZID:America/Vancouver
BEGIN:DAYLIGHT
TZOFFSETFROM:-0800
TZOFFSETTO:-0700
TZNAME:PDT
DTSTART:20190310T100000
END:DAYLIGHT
BEGIN:STANDARD
TZOFFSETFROM:-0700
TZOFFSETTO:-0800
TZNAME:PST
DTSTART:20191103T090000
END:STANDARD
BEGIN:DAYLIGHT
TZOFFSETFROM:-0800
TZOFFSETTO:-0700
TZNAME:PDT
DTSTART:20200308T100000
END:DAYLIGHT
BEGIN:STANDARD
TZOFFSETFROM:-0700
TZOFFSETTO:-0800
TZNAME:PST
DTSTART:20201101T090000
END:STANDARD
BEGIN:DAYLIGHT
TZOFFSETFROM:-0800
TZOFFSETTO:-0700
TZNAME:PDT
DTSTART:20210314T100000
END:DAYLIGHT
BEGIN:STANDARD
TZOFFSETFROM:-0700
TZOFFSETTO:-0800
TZNAME:PST
DTSTART:20211107T090000
END:STANDARD
END:VTIMEZONE
BEGIN:VEVENT
DTSTART;TZID=America/Vancouver:20201017T100000
DTEND;TZID=America/Vancouver:20201017T120000
DTSTAMP:20260425T031727
CREATED:20200304T223630Z
LAST-MODIFIED:20200817T195316Z
UID:28775-1602928800-1602936000@conservancy.bc.ca
SUMMARY:CANCELLED: Passport to Nature: Navigation in the Woods
DESCRIPTION:Join Sid Jorna and TLC to learn the basics of navigation in the woods. Technology has provided convenient tools to orient you in the woods but what happens when the battery dies? Learn how to plan a course on a map to get to a destination and compensate for unexpected arisings. The workshop will include theoretical knowledge\, reading a compass and trying out the skills on a short hike. Equipment will be provided. \nView TLC’s 2020 Passport to Nature for a full listing of our nature events designed with you in mind – those who want to explore the wild outdoors\, learn new skills and meet like-minded people. For a hard copy of our Passport to Nature\, contact TLC at 1-877-485-2422 or email membership@conservancy.bc.ca. \nRegister for the Navigation in the Woods event today as space is limited! \nPlease meet us at the William Simmons Memorial Park in Sooke at 10 a.m. on Saturday\, October 17th. William Simmons Memorial Park is located in Otter Point adjacent to Otter Point Road and Poirier Lake.
URL:https://conservancy.bc.ca/event/passport-to-nature-navigation-in-the-woods/
CATEGORIES:Passport to Nature
END:VEVENT
BEGIN:VEVENT
DTSTART;TZID=America/Vancouver:20201023T100000
DTEND;TZID=America/Vancouver:20201023T120000
DTSTAMP:20260425T031727
CREATED:20200304T224450Z
LAST-MODIFIED:20200817T195124Z
UID:28777-1603447200-1603454400@conservancy.bc.ca
SUMMARY:CANCELLED: Passport to Nature: Mushroom ID Walk
DESCRIPTION:Join Kevin Trim (former SVIMS President) and TLC’s Torrey Archer on a hunt to find and identify mushrooms in the beautiful mature forests at Second Lake. Participants will learn how to ID the most common species\, deadly species\, the parts of the mushroom fruiting body\, and discuss the role of fungi in forests. \nPlease remember to bring a water bottle and snacks\, wear sturdy shoes and dress appropriately for the weather. \nView TLC’s 2020 Passport to Nature for a full listing of our nature events designed with you in mind – those who want to explore the wild outdoors\, learn new skills and meet like-minded people. For a hard copy of our Passport to Nature\, contact TLC at 1-877-485-2422 or email membership@conservancy.bc.ca. \nRegister for the Mushroom ID Walk today! \nTLC’s Second Lake property is accessed via 377 Millstream Lake Road in the District of the Highlands. From Highway 1\, turn north onto Millstream Road. Continue on Millstream Road\, veering right at the Y to get onto Millstream Lake Road. At the next Y (with Munn Road) stay left to continue on Millstream Lake Road. Travel onward and turn right at 377 Millstream Lake Road. Continue down the long driveway and take the first right off the driveway to the parking area.
URL:https://conservancy.bc.ca/event/passport-to-nature-mushroom-id-walk-3/
CATEGORIES:Passport to Nature
END:VEVENT
END:VCALENDAR