BEGIN:VCALENDAR
VERSION:2.0
PRODID:-//The Land Conservancy of BC - ECPv6.15.20//NONSGML v1.0//EN
CALSCALE:GREGORIAN
METHOD:PUBLISH
X-WR-CALNAME:The Land Conservancy of BC
X-ORIGINAL-URL:https://conservancy.bc.ca
X-WR-CALDESC:Events for The Land Conservancy of BC
REFRESH-INTERVAL;VALUE=DURATION:PT1H
X-Robots-Tag:noindex
X-PUBLISHED-TTL:PT1H
BEGIN:VTIMEZONE
TZID:America/Vancouver
BEGIN:DAYLIGHT
TZOFFSETFROM:-0800
TZOFFSETTO:-0700
TZNAME:PDT
DTSTART:20170312T100000
END:DAYLIGHT
BEGIN:STANDARD
TZOFFSETFROM:-0700
TZOFFSETTO:-0800
TZNAME:PST
DTSTART:20171105T090000
END:STANDARD
BEGIN:DAYLIGHT
TZOFFSETFROM:-0800
TZOFFSETTO:-0700
TZNAME:PDT
DTSTART:20180311T100000
END:DAYLIGHT
BEGIN:STANDARD
TZOFFSETFROM:-0700
TZOFFSETTO:-0800
TZNAME:PST
DTSTART:20181104T090000
END:STANDARD
BEGIN:DAYLIGHT
TZOFFSETFROM:-0800
TZOFFSETTO:-0700
TZNAME:PDT
DTSTART:20190310T100000
END:DAYLIGHT
BEGIN:STANDARD
TZOFFSETFROM:-0700
TZOFFSETTO:-0800
TZNAME:PST
DTSTART:20191103T090000
END:STANDARD
END:VTIMEZONE
BEGIN:VEVENT
DTSTART;TZID=America/Vancouver:20181113T100000
DTEND;TZID=America/Vancouver:20181113T160000
DTSTAMP:20260419T190855
CREATED:20181015T221823Z
LAST-MODIFIED:20181015T222648Z
UID:27920-1542103200-1542124800@conservancy.bc.ca
SUMMARY:Forest Bathing at TLC's Barer and Kinghorn Covenants
DESCRIPTION:Take a study break to learn about the natural history and forest ecology of the Mt. Work area. Expect a 3 km hike with a stop to a ‘secret cabin’ for lunch.  Trails are maintained\, however sturdy footwear is recommended as there is slight elevation gain.  Be sure to pack water and lunch. The hike is open to everyone.  Please register with Karen via kiwachow@conservancy.bc.ca.  Carpooling is available.
URL:https://conservancy.bc.ca/event/forest-bathing-at-tlcs-barer-and-kinghorn-covenants/
CATEGORIES:Covenant Monitoring Hike
ATTACH;FMTTYPE=image/jpeg:https://conservancy.bc.ca/wp-content/uploads/2018/10/Forest-Bathing-Hikes-2018.jpg
END:VEVENT
BEGIN:VEVENT
DTSTART;TZID=America/Vancouver:20181114T100000
DTEND;TZID=America/Vancouver:20181114T170000
DTSTAMP:20260419T190855
CREATED:20181015T222211Z
LAST-MODIFIED:20181015T222304Z
UID:27924-1542189600-1542214800@conservancy.bc.ca
SUMMARY:Forest Bathing at TLC’s Sooke Hills Covenant
DESCRIPTION:Take a study break to explore an area of the Sea to Sea Regional Park which experienced a wildfire in the summer of 2017.  We will monitor the burn site to see how the forest is recovering.  Trails are maintained\, however sturdy footwear is recommended as we will be stepping off-trail to the site and some elevation gain will occur.  Be sure to pack water and lunch.  The hike is open to everyone. Please register with Karen via kiwachow@conservancy.bc.ca. Carpooling available.
URL:https://conservancy.bc.ca/event/forest-bathing-at-tlcs-sooke-hills-covenant/
CATEGORIES:Covenant Monitoring Hike
ATTACH;FMTTYPE=image/jpeg:https://conservancy.bc.ca/wp-content/uploads/2018/10/Forest-Bathing-Hikes-2018.jpg
END:VEVENT
END:VCALENDAR